BEGIN:VCALENDAR
VERSION:2.0
PRODID:-//eventon.com NONSGML v1.0//EN
CALSCALE:GREGORIAN
METHOD:PUBLISH
BEGIN:VEVENT
UID:69e5e4146d805
DTSTAMP:20260420T083012Z
DTSTART:20230329T223000Z
DTEND:20230329T233000Z
LOCATION:Lenoir-Rhyme University Auditorium (998 Wildwood Ave) 4201 N. Main St.
SUMMARY:How to Run for Public Office
DESCRIPTION:\nhttps://nc100bwcolumbiasc.org/events/how-to-run-for-public-of
 fice/
URL:https://nc100bwcolumbiasc.org/events/how-to-run-for-public-office/
END:VEVENT
END:VCALENDAR