BEGIN:VCALENDAR
VERSION:2.0
PRODID:-//eventon.com NONSGML v1.0//EN
CALSCALE:GREGORIAN
METHOD:PUBLISH
BEGIN:VEVENT
UID:69e4cec4814d5
DTSTAMP:20260419T124700Z
DTSTART:20230921T223000Z
DTEND:20230922T035000Z
LOCATION:
SUMMARY:Homeless Women and Children: Awareness & Advocacy
DESCRIPTION:\nhttps://nc100bwcolumbiasc.org/events/homeless-women-and-child
 ren-awareness-advocacy/
URL:https://nc100bwcolumbiasc.org/events/homeless-women-and-children-awareness-advocacy/
END:VEVENT
END:VCALENDAR