BEGIN:VCALENDAR
VERSION:2.0
PRODID:-//eventon.com NONSGML v1.0//EN
CALSCALE:GREGORIAN
METHOD:PUBLISH
BEGIN:VEVENT
UID:69e5e3677c996
DTSTAMP:20260420T082719Z
DTSTART:20231129T233000Z
DTEND:20231130T003000Z
LOCATION:
SUMMARY:Diabetes & You: Diabetes Self-Advocacy
DESCRIPTION:\nhttps://nc100bwcolumbiasc.org/events/diabetes-you-diabetes-se
 lf-advocacy/
URL:https://nc100bwcolumbiasc.org/events/diabetes-you-diabetes-self-advocacy/
END:VEVENT
END:VCALENDAR