BEGIN:VCALENDAR
VERSION:2.0
PRODID:-//eventon.com NONSGML v1.0//EN
CALSCALE:GREGORIAN
METHOD:PUBLISH
BEGIN:VEVENT
UID:69e5e5ec06f99
DTSTAMP:20260420T083804Z
DTSTART:20241210T000000Z
DTEND:20241210T011500Z
LOCATION:
SUMMARY:Empowering Women & Girls to Use Your Grace To Finish The Race! Education and Economic Empowerment
DESCRIPTION:Empowering Women & Girls to Use Your Grace To Finish The Race! 
 Education and Economic Empowerment\nhttps://nc100bwcolumbiasc.org/events/em
 powering-women-girls-to-use-your-grace-to-finish-the-race-education-and-eco
 nomic-empowerment/
URL:https://nc100bwcolumbiasc.org/events/empowering-women-girls-to-use-your-grace-to-finish-the-race-education-and-economic-empowerment/
END:VEVENT
END:VCALENDAR