BEGIN:VCALENDAR
VERSION:2.0
PRODID:-//eventon.com NONSGML v1.0//EN
CALSCALE:GREGORIAN
METHOD:PUBLISH
BEGIN:VEVENT
UID:69ecb982b5006
DTSTAMP:20260425T125426Z
DTSTART:20250331T230000Z
DTEND:20250401T010000Z
LOCATION:Brookland Baptist Church Christian Learning Center 1066 Sunset Blvd\,  West Columbia\,  SC 29169
SUMMARY:Women and Girls: Cultivating a Culture of Trailblazers
DESCRIPTION:Non Traditional Career Opportunities Date: March 31\,  2025 / T
 ime: 7:00 PM Location: Brookland Baptist Church Christian Learning Center
  (CLC)-Dinning Hall 1066 Sunset Blvd\,  West Columbia\,  SC 29169 Registra
 tion: Eventbrite\,  Carolina Box Office\nhttps://nc100bwcolumbiasc.org/even
 ts/women-and-girls-cultivating-a-culture-of-trailblazers/
URL:https://nc100bwcolumbiasc.org/events/women-and-girls-cultivating-a-culture-of-trailblazers/
END:VEVENT
END:VCALENDAR